BEGIN:VCALENDAR
VERSION:2.0
PRODID:-//Cooper&#039;s Hawk - ECPv6.15.20//NONSGML v1.0//EN
CALSCALE:GREGORIAN
METHOD:PUBLISH
X-WR-CALNAME:Cooper&#039;s Hawk
X-ORIGINAL-URL:https://coopershawkgolf.com
X-WR-CALDESC:Events for Cooper&#039;s Hawk
REFRESH-INTERVAL;VALUE=DURATION:PT1H
X-Robots-Tag:noindex
X-PUBLISHED-TTL:PT1H
BEGIN:VTIMEZONE
TZID:America/Chicago
BEGIN:DAYLIGHT
TZOFFSETFROM:-0600
TZOFFSETTO:-0500
TZNAME:CDT
DTSTART:20230312T080000
END:DAYLIGHT
BEGIN:STANDARD
TZOFFSETFROM:-0500
TZOFFSETTO:-0600
TZNAME:CST
DTSTART:20231105T070000
END:STANDARD
BEGIN:DAYLIGHT
TZOFFSETFROM:-0600
TZOFFSETTO:-0500
TZNAME:CDT
DTSTART:20240310T080000
END:DAYLIGHT
BEGIN:STANDARD
TZOFFSETFROM:-0500
TZOFFSETTO:-0600
TZNAME:CST
DTSTART:20241103T070000
END:STANDARD
BEGIN:DAYLIGHT
TZOFFSETFROM:-0600
TZOFFSETTO:-0500
TZNAME:CDT
DTSTART:20250309T080000
END:DAYLIGHT
BEGIN:STANDARD
TZOFFSETFROM:-0500
TZOFFSETTO:-0600
TZNAME:CST
DTSTART:20251102T070000
END:STANDARD
END:VTIMEZONE
BEGIN:VEVENT
DTSTART;VALUE=DATE:20241003
DTEND;VALUE=DATE:20241004
DTSTAMP:20260420T093319
CREATED:20240920T133652Z
LAST-MODIFIED:20240920T185744Z
UID:6750-1727913600-1727999999@coopershawkgolf.com
SUMMARY:Ozarka College Golf Scramble ( Closed all day)
DESCRIPTION:
URL:https://coopershawkgolf.com/event/ozarka-college-golf-scramble-closed-all-day/
END:VEVENT
BEGIN:VEVENT
DTSTART;TZID=America/Chicago:20241003T100000
DTEND;TZID=America/Chicago:20241003T100000
DTSTAMP:20260420T093319
CREATED:20240304T194013Z
LAST-MODIFIED:20240819T175452Z
UID:6639-1727949600-1727949600@coopershawkgolf.com
SUMMARY:Ozarka College Benefit | 4-Person Scramble
DESCRIPTION:
URL:https://coopershawkgolf.com/event/ozarka-college-benefit-4-person-scramble-6/
END:VEVENT
BEGIN:VEVENT
DTSTART;VALUE=DATE:20241006
DTEND;VALUE=DATE:20241007
DTSTAMP:20260420T093319
CREATED:20240920T134104Z
LAST-MODIFIED:20240920T134104Z
UID:6754-1728172800-1728259199@coopershawkgolf.com
SUMMARY:3A-2 Boys State Tournament Practice Round 
DESCRIPTION:
URL:https://coopershawkgolf.com/event/3a-2-boys-state-tournament-practice-round/
END:VEVENT
BEGIN:VEVENT
DTSTART;VALUE=DATE:20241007
DTEND;VALUE=DATE:20241008
DTSTAMP:20260420T093319
CREATED:20240920T134211Z
LAST-MODIFIED:20240920T134211Z
UID:6759-1728259200-1728345599@coopershawkgolf.com
SUMMARY:3A-2 Boys Championship Round ( Closed till 3:30)
DESCRIPTION:
URL:https://coopershawkgolf.com/event/3a-2-boys-championship-round-closed-till-330/
END:VEVENT
BEGIN:VEVENT
DTSTART;VALUE=DATE:20241018
DTEND;VALUE=DATE:20241019
DTSTAMP:20260420T093319
CREATED:20240920T134245Z
LAST-MODIFIED:20240920T134245Z
UID:6763-1729209600-1729295999@coopershawkgolf.com
SUMMARY:AHCA Golf
DESCRIPTION:
URL:https://coopershawkgolf.com/event/ahca-golf/
END:VEVENT
BEGIN:VEVENT
DTSTART;VALUE=DATE:20241026
DTEND;VALUE=DATE:20241027
DTSTAMP:20260420T093319
CREATED:20240920T134320Z
LAST-MODIFIED:20240920T134320Z
UID:6767-1729900800-1729987199@coopershawkgolf.com
SUMMARY:NEA Golf
DESCRIPTION:
URL:https://coopershawkgolf.com/event/nea-golf/
END:VEVENT
END:VCALENDAR